BEGIN:VCALENDAR
VERSION:2.0
PRODID:-//Tukios.com/
BEGIN:VEVENT
UID:4139b8c7-b4d3-4499-bd51-3379cd21e7e4@www.englandfamilymortuary.com
DTSTAMP:20260420T231821Z
DTSTART:20260501T173000Z
DTEND:20260501T183000Z
SUMMARY:Burial
DESCRIPTION:
URL:https://www.englandfamilymortuary.com/obituaries/brian-havey
LOCATION:Miramar National Cemetery 5795 Nobel Drive  San Diego CA 92122
GEO:32.8717245;-117.1903604
END:VEVENT
END:VCALENDAR